BEGIN:VCALENDAR
VERSION:2.0
PRODID:-//Grande Prairie Live Theatre - ECPv6.15.20//NONSGML v1.0//EN
CALSCALE:GREGORIAN
METHOD:PUBLISH
X-WR-CALNAME:Grande Prairie Live Theatre
X-ORIGINAL-URL:https://www.gplt.ca
X-WR-CALDESC:Events for Grande Prairie Live Theatre
REFRESH-INTERVAL;VALUE=DURATION:PT1H
X-Robots-Tag:noindex
X-PUBLISHED-TTL:PT1H
BEGIN:VTIMEZONE
TZID:America/Edmonton
BEGIN:DAYLIGHT
TZOFFSETFROM:-0700
TZOFFSETTO:-0600
TZNAME:MDT
DTSTART:20250309T090000
END:DAYLIGHT
BEGIN:STANDARD
TZOFFSETFROM:-0600
TZOFFSETTO:-0700
TZNAME:MST
DTSTART:20251102T080000
END:STANDARD
BEGIN:DAYLIGHT
TZOFFSETFROM:-0700
TZOFFSETTO:-0600
TZNAME:MDT
DTSTART:20260308T090000
END:DAYLIGHT
BEGIN:STANDARD
TZOFFSETFROM:-0600
TZOFFSETTO:-0700
TZNAME:MST
DTSTART:20261101T080000
END:STANDARD
BEGIN:DAYLIGHT
TZOFFSETFROM:-0700
TZOFFSETTO:-0600
TZNAME:MDT
DTSTART:20270314T090000
END:DAYLIGHT
BEGIN:STANDARD
TZOFFSETFROM:-0600
TZOFFSETTO:-0700
TZNAME:MST
DTSTART:20271107T080000
END:STANDARD
END:VTIMEZONE
BEGIN:VEVENT
DTSTART;TZID=America/Edmonton:20260222T193000
DTEND;TZID=America/Edmonton:20260222T193000
DTSTAMP:20260422T091942
CREATED:20250904T083845Z
LAST-MODIFIED:20260222T201234Z
UID:5274-1771788600-1771788600@www.gplt.ca
SUMMARY:Cara Luft & Clayton Parsons - CANCELLED
DESCRIPTION:Grande Prairie Live Theatre’s 31st Season of Roots and Blues Concert Series\nJuno award winning singer-songwriter-musician Cara Luft is that rare artist steeped in folk and traditional roots music almost from birth\, yet willing to alter the fabric\, stretch the boundaries and fearlessly bend genres and styles.  A founding member of Canadian folk super-group The Wailin’ Jennys and the brainchild behind Winnipeg’s acclaimed powerhouse duo The Small Glories\, Luft deserves her solid reputation as one of Canada’s finest live performers\, armed with amazing tenacity\, vision\, energy and a contagious hilarity. To quote the roots magazine No Depression\, “Luft has a rich tradition in folk music – it’s safe to assume that she knows her stuff – and upon listening it becomes quite clear that she is indeed a formidable songwriter and performer… [The] lovely Ms. Luft sets the bar for the talented few who’ll follow in her footsteps.” \nCara has a spirit that drives her to connect with people\, and for this she is loved everywhere she goes. Reviewers of her live shows talk about her compelling vocals\, superb musicianship\, humorous anecdotes\, accomplished songwriting\, ability to switch between styles and the charm of her stage presence. Cara’s the real deal\, there’s nothing pretentious about her. And that sense of honesty\, integrity\, personality and spontaneity permeates both her music and her live shows. “Long may she reign!” (Lonesome Highway) \ncaraluft.com
URL:https://www.gplt.ca/event/cara-luft-clayton-parsons/
LOCATION:Grande Prairie Live Theatre\, 10130 98 Ave\, Grande Prairie\, Alberta\, T8V 0P6\, Canada
CATEGORIES:Concerts
ATTACH;FMTTYPE=image/webp:https://www.gplt.ca/wp-content/uploads/2025/09/CarlaLuftDuo-1024x512-1.webp
END:VEVENT
END:VCALENDAR