BEGIN:VCALENDAR
VERSION:2.0
PRODID:-//Grande Prairie Live Theatre - ECPv6.15.20//NONSGML v1.0//EN
CALSCALE:GREGORIAN
METHOD:PUBLISH
X-WR-CALNAME:Grande Prairie Live Theatre
X-ORIGINAL-URL:https://www.gplt.ca
X-WR-CALDESC:Events for Grande Prairie Live Theatre
REFRESH-INTERVAL;VALUE=DURATION:PT1H
X-Robots-Tag:noindex
X-PUBLISHED-TTL:PT1H
BEGIN:VTIMEZONE
TZID:America/Edmonton
BEGIN:DAYLIGHT
TZOFFSETFROM:-0700
TZOFFSETTO:-0600
TZNAME:MDT
DTSTART:20250309T090000
END:DAYLIGHT
BEGIN:STANDARD
TZOFFSETFROM:-0600
TZOFFSETTO:-0700
TZNAME:MST
DTSTART:20251102T080000
END:STANDARD
BEGIN:DAYLIGHT
TZOFFSETFROM:-0700
TZOFFSETTO:-0600
TZNAME:MDT
DTSTART:20260308T090000
END:DAYLIGHT
BEGIN:STANDARD
TZOFFSETFROM:-0600
TZOFFSETTO:-0700
TZNAME:MST
DTSTART:20261101T080000
END:STANDARD
BEGIN:DAYLIGHT
TZOFFSETFROM:-0700
TZOFFSETTO:-0600
TZNAME:MDT
DTSTART:20270314T090000
END:DAYLIGHT
BEGIN:STANDARD
TZOFFSETFROM:-0600
TZOFFSETTO:-0700
TZNAME:MST
DTSTART:20271107T080000
END:STANDARD
END:VTIMEZONE
BEGIN:VEVENT
DTSTART;TZID=America/Edmonton:20260418T193000
DTEND;TZID=America/Edmonton:20260418T213000
DTSTAMP:20260422T082920
CREATED:20251110T162211Z
LAST-MODIFIED:20260316T165719Z
UID:8326-1776540600-1776547800@www.gplt.ca
SUMMARY:Me\, Myself & Cecil
DESCRIPTION:Back for its second round! Newfoundland’s own Cecil O’Brien & Mike Lynch are joining forces once again to bring you an all new\, hilarious night of stand up\, musical and character comedy. \nThe Townie / Bayman duo will also be joined by a special guest host to keep the night extra deadly and laughs rollin’ like capelin! \nSaturday\, April 18 @ 7:30 pm. at the Grande Prairie Live Theatre. \nDoors and lounge open at 6:30 PM.
URL:https://www.gplt.ca/event/cecil/
LOCATION:Grande Prairie Live Theatre\, 10130 98 Ave\, Grande Prairie\, Alberta\, T8V 0P6\, Canada
CATEGORIES:Concerts
ATTACH;FMTTYPE=image/png:https://www.gplt.ca/wp-content/uploads/2025/11/12x6_1.png
END:VEVENT
END:VCALENDAR