BEGIN:VCALENDAR
VERSION:2.0
PRODID:-//Grande Prairie Live Theatre - ECPv6.15.20//NONSGML v1.0//EN
CALSCALE:GREGORIAN
METHOD:PUBLISH
X-WR-CALNAME:Grande Prairie Live Theatre
X-ORIGINAL-URL:https://www.gplt.ca
X-WR-CALDESC:Events for Grande Prairie Live Theatre
REFRESH-INTERVAL;VALUE=DURATION:PT1H
X-Robots-Tag:noindex
X-PUBLISHED-TTL:PT1H
BEGIN:VTIMEZONE
TZID:America/Edmonton
BEGIN:DAYLIGHT
TZOFFSETFROM:-0700
TZOFFSETTO:-0600
TZNAME:MDT
DTSTART:20240310T090000
END:DAYLIGHT
BEGIN:STANDARD
TZOFFSETFROM:-0600
TZOFFSETTO:-0700
TZNAME:MST
DTSTART:20241103T080000
END:STANDARD
BEGIN:DAYLIGHT
TZOFFSETFROM:-0700
TZOFFSETTO:-0600
TZNAME:MDT
DTSTART:20250309T090000
END:DAYLIGHT
BEGIN:STANDARD
TZOFFSETFROM:-0600
TZOFFSETTO:-0700
TZNAME:MST
DTSTART:20251102T080000
END:STANDARD
BEGIN:DAYLIGHT
TZOFFSETFROM:-0700
TZOFFSETTO:-0600
TZNAME:MDT
DTSTART:20260308T090000
END:DAYLIGHT
BEGIN:STANDARD
TZOFFSETFROM:-0600
TZOFFSETTO:-0700
TZNAME:MST
DTSTART:20261101T080000
END:STANDARD
END:VTIMEZONE
BEGIN:VEVENT
DTSTART;TZID=America/Edmonton:20251018T163000
DTEND;TZID=America/Edmonton:20251018T163000
DTSTAMP:20260422T123142
CREATED:20250904T082539Z
LAST-MODIFIED:20250930T191653Z
UID:5247-1760805000-1760805000@www.gplt.ca
SUMMARY:“From Poland With Love” Belly Dance Show
DESCRIPTION:This show has been postponed. There will be a new date\, so stay tuned!\nJoin us for our 14th Annual Bellydancing Show\, which year after year brings together amazing performers local and from out of town and Internationally known Star dancers. \nGet mesmerized by diversity of different styles of dance brought to one stage. \nThis year our Star dancer is Jasirah of Poland- master instructor\, choreographer and charismatic dancer with her own unique style. \nTickets can be purchased in advance from the Grande Prairie Live Theatre Box Office in person or over the phone: 780 538 1616 \nAdvance tickets are $35 plus a $4.50 per ticket service selling fee. \nTickets sold at the door are $40 plus a $4.50 per ticket service selling fee.
URL:https://www.gplt.ca/event/from-poland-with-love-belly-dance-show/
LOCATION:Grande Prairie Live Theatre\, 10130 98 Ave\, Grande Prairie\, Alberta\, T8V 0P6\, Canada
CATEGORIES:Special Events
ATTACH;FMTTYPE=image/jpeg:https://www.gplt.ca/wp-content/uploads/2025/09/2025-Moondance-Shimmy-Bellydance-poster-e1745873251343.jpg
END:VEVENT
END:VCALENDAR