BEGIN:VCALENDAR
VERSION:2.0
PRODID:-//Grande Prairie Live Theatre - ECPv6.15.20//NONSGML v1.0//EN
CALSCALE:GREGORIAN
METHOD:PUBLISH
X-WR-CALNAME:Grande Prairie Live Theatre
X-ORIGINAL-URL:https://www.gplt.ca
X-WR-CALDESC:Events for Grande Prairie Live Theatre
REFRESH-INTERVAL;VALUE=DURATION:PT1H
X-Robots-Tag:noindex
X-PUBLISHED-TTL:PT1H
BEGIN:VTIMEZONE
TZID:America/Edmonton
BEGIN:DAYLIGHT
TZOFFSETFROM:-0700
TZOFFSETTO:-0600
TZNAME:MDT
DTSTART:20240310T090000
END:DAYLIGHT
BEGIN:STANDARD
TZOFFSETFROM:-0600
TZOFFSETTO:-0700
TZNAME:MST
DTSTART:20241103T080000
END:STANDARD
BEGIN:DAYLIGHT
TZOFFSETFROM:-0700
TZOFFSETTO:-0600
TZNAME:MDT
DTSTART:20250309T090000
END:DAYLIGHT
BEGIN:STANDARD
TZOFFSETFROM:-0600
TZOFFSETTO:-0700
TZNAME:MST
DTSTART:20251102T080000
END:STANDARD
BEGIN:DAYLIGHT
TZOFFSETFROM:-0700
TZOFFSETTO:-0600
TZNAME:MDT
DTSTART:20260308T090000
END:DAYLIGHT
BEGIN:STANDARD
TZOFFSETFROM:-0600
TZOFFSETTO:-0700
TZNAME:MST
DTSTART:20261101T080000
END:STANDARD
END:VTIMEZONE
BEGIN:VEVENT
DTSTART;TZID=America/Edmonton:20251115T190000
DTEND;TZID=America/Edmonton:20251115T220000
DTSTAMP:20260422T185918
CREATED:20251107T181322Z
LAST-MODIFIED:20251107T181331Z
UID:8322-1763233200-1763244000@www.gplt.ca
SUMMARY:Event image for Léro w/ Allura Red Live at GPLT
DESCRIPTION:Grande Prairie’s Hottest New Band\, Léro takes the stage at GPLT November 15th for an all ages rock show with special guests Allura Red! \nDoors at 6pm\, Show starts at 7pm!
URL:https://www.gplt.ca/event/lero/
LOCATION:Grande Prairie Live Theatre\, 10130 98 Ave\, Grande Prairie\, Alberta\, T8V 0P6\, Canada
ATTACH;FMTTYPE=image/webp:https://www.gplt.ca/wp-content/uploads/2025/11/Lero-scaled.webp
END:VEVENT
END:VCALENDAR