BEGIN:VCALENDAR
VERSION:2.0
PRODID:-//Grande Prairie Live Theatre - ECPv6.15.20//NONSGML v1.0//EN
CALSCALE:GREGORIAN
METHOD:PUBLISH
X-ORIGINAL-URL:https://www.gplt.ca
X-WR-CALDESC:Events for Grande Prairie Live Theatre
REFRESH-INTERVAL;VALUE=DURATION:PT1H
X-Robots-Tag:noindex
X-PUBLISHED-TTL:PT1H
BEGIN:VTIMEZONE
TZID:America/Edmonton
BEGIN:DAYLIGHT
TZOFFSETFROM:-0700
TZOFFSETTO:-0600
TZNAME:MDT
DTSTART:20240310T090000
END:DAYLIGHT
BEGIN:STANDARD
TZOFFSETFROM:-0600
TZOFFSETTO:-0700
TZNAME:MST
DTSTART:20241103T080000
END:STANDARD
BEGIN:DAYLIGHT
TZOFFSETFROM:-0700
TZOFFSETTO:-0600
TZNAME:MDT
DTSTART:20250309T090000
END:DAYLIGHT
BEGIN:STANDARD
TZOFFSETFROM:-0600
TZOFFSETTO:-0700
TZNAME:MST
DTSTART:20251102T080000
END:STANDARD
BEGIN:DAYLIGHT
TZOFFSETFROM:-0700
TZOFFSETTO:-0600
TZNAME:MDT
DTSTART:20260308T090000
END:DAYLIGHT
BEGIN:STANDARD
TZOFFSETFROM:-0600
TZOFFSETTO:-0700
TZNAME:MST
DTSTART:20261101T080000
END:STANDARD
END:VTIMEZONE
BEGIN:VEVENT
DTSTART;TZID=America/Edmonton:20251002T193000
DTEND;TZID=America/Edmonton:20251002T193000
DTSTAMP:20260422T190642
CREATED:20250923T000514Z
LAST-MODIFIED:20250930T191934Z
UID:10000541-1759433400-1759433400@www.gplt.ca
SUMMARY:7 Stories
DESCRIPTION:By Morris Panych\n\n\n\n\n“Grande Prairie Live Theatre’s first play of our 63rd Season” \nA dark existential dramatic comedy by one of Canada’s most influential playwrights\, Morris Panych.  For ages 16+. \nA person stands on a ledge on the 7th floor of an apartment building in front of a row of windows. Thinking about jumping. This person is constantly interrupted by the colorful residents of the seventh story who are too caught up in their own lives to notice this person or question why this person is on the ledge of the building. As he contemplates the meaninglessness of his existence\, he is unexpectedly and suddenly set free. \nIntriguing\, unexpected twists and turns\, and in the end uplifting. \n\n  \n\nShowtimes\n\nThursday September 18\, 2025 – 07:30PM \nFriday September 19\, 2025 – 07:30PM \nSaturday September 20\, 2025 – 07:30PM \nThursday September 25\, 2025 – 07:30PM \nFriday September 26\, 2025 – 07:30PM \nThursday October 2\, 2025 – 07:30PM \nFriday October 3\, 2025 – 07:30PM \nSaturday October 4\, 2025 – 07:30PM
URL:https://www.gplt.ca/event/7-stories/2025-10-02/
LOCATION:Grande Prairie Live Theatre\, 10130 98 Ave\, Grande Prairie\, Alberta\, T8V 0P6\, Canada
CATEGORIES:Plays
ATTACH;FMTTYPE=image/png:https://www.gplt.ca/wp-content/uploads/2025/09/GPLT-Graphics-2025-02-1024x576-1.png
END:VEVENT
BEGIN:VEVENT
DTSTART;TZID=America/Edmonton:20251003T193000
DTEND;TZID=America/Edmonton:20251003T193000
DTSTAMP:20260422T190642
CREATED:20250923T000514Z
LAST-MODIFIED:20250930T191934Z
UID:10000542-1759519800-1759519800@www.gplt.ca
SUMMARY:7 Stories
DESCRIPTION:By Morris Panych\n\n\n\n\n“Grande Prairie Live Theatre’s first play of our 63rd Season” \nA dark existential dramatic comedy by one of Canada’s most influential playwrights\, Morris Panych.  For ages 16+. \nA person stands on a ledge on the 7th floor of an apartment building in front of a row of windows. Thinking about jumping. This person is constantly interrupted by the colorful residents of the seventh story who are too caught up in their own lives to notice this person or question why this person is on the ledge of the building. As he contemplates the meaninglessness of his existence\, he is unexpectedly and suddenly set free. \nIntriguing\, unexpected twists and turns\, and in the end uplifting. \n\n  \n\nShowtimes\n\nThursday September 18\, 2025 – 07:30PM \nFriday September 19\, 2025 – 07:30PM \nSaturday September 20\, 2025 – 07:30PM \nThursday September 25\, 2025 – 07:30PM \nFriday September 26\, 2025 – 07:30PM \nThursday October 2\, 2025 – 07:30PM \nFriday October 3\, 2025 – 07:30PM \nSaturday October 4\, 2025 – 07:30PM
URL:https://www.gplt.ca/event/7-stories/2025-10-03/
LOCATION:Grande Prairie Live Theatre\, 10130 98 Ave\, Grande Prairie\, Alberta\, T8V 0P6\, Canada
CATEGORIES:Plays
ATTACH;FMTTYPE=image/png:https://www.gplt.ca/wp-content/uploads/2025/09/GPLT-Graphics-2025-02-1024x576-1.png
END:VEVENT
BEGIN:VEVENT
DTSTART;TZID=America/Edmonton:20251004T193000
DTEND;TZID=America/Edmonton:20251004T193000
DTSTAMP:20260422T190642
CREATED:20250923T000514Z
LAST-MODIFIED:20250930T191934Z
UID:10000543-1759606200-1759606200@www.gplt.ca
SUMMARY:7 Stories
DESCRIPTION:By Morris Panych\n\n\n\n\n“Grande Prairie Live Theatre’s first play of our 63rd Season” \nA dark existential dramatic comedy by one of Canada’s most influential playwrights\, Morris Panych.  For ages 16+. \nA person stands on a ledge on the 7th floor of an apartment building in front of a row of windows. Thinking about jumping. This person is constantly interrupted by the colorful residents of the seventh story who are too caught up in their own lives to notice this person or question why this person is on the ledge of the building. As he contemplates the meaninglessness of his existence\, he is unexpectedly and suddenly set free. \nIntriguing\, unexpected twists and turns\, and in the end uplifting. \n\n  \n\nShowtimes\n\nThursday September 18\, 2025 – 07:30PM \nFriday September 19\, 2025 – 07:30PM \nSaturday September 20\, 2025 – 07:30PM \nThursday September 25\, 2025 – 07:30PM \nFriday September 26\, 2025 – 07:30PM \nThursday October 2\, 2025 – 07:30PM \nFriday October 3\, 2025 – 07:30PM \nSaturday October 4\, 2025 – 07:30PM
URL:https://www.gplt.ca/event/7-stories/2025-10-04/
LOCATION:Grande Prairie Live Theatre\, 10130 98 Ave\, Grande Prairie\, Alberta\, T8V 0P6\, Canada
CATEGORIES:Plays
ATTACH;FMTTYPE=image/png:https://www.gplt.ca/wp-content/uploads/2025/09/GPLT-Graphics-2025-02-1024x576-1.png
END:VEVENT
BEGIN:VEVENT
DTSTART;TZID=America/Edmonton:20251023T193000
DTEND;TZID=America/Edmonton:20251023T193000
DTSTAMP:20260422T190642
CREATED:20250923T000730Z
LAST-MODIFIED:20250930T191553Z
UID:10000005-1761247800-1761247800@www.gplt.ca
SUMMARY:Agatha Christie’s Murder on the Orient Express
DESCRIPTION:By Ken Ludwig\n\n\n\n\n“Grande Prairie Live Theatre’s second play of our 63rd Season” \nGrande Prairie Live Theatre brings to our home theatre stage the spine thrilling stage adaptation of one of Agatha Christie’s most popular murder mysteries. \nJust in case Murder on the Orient Express is a mystery to you\, here is a short blurb about this play. Just after midnight\, a snowdrift stops the Orient Express in its tracks. The luxurious train is surprisingly full for the time of the year\, but by the morning it is one passenger fewer. An American tycoon lies dead in his compartment\, stabbed eight times\, his door locked from the inside. Isolated and with a killer in their midst\, the passengers rely on detective Hercule Poirot to identify the murderer – in case he or she decides to strike again. Agatha Christie’s Murder on the Orient Express premiered at the McCarter Theatre Center in Princeton\, NJ on March 14\, 2017. Directed by Emily Mann\, the production featured Alan Corduner\, Veanne Cox\, Julie Halston and Max von Esse \nProduced by special arrangement with; \nConcord Theatricals\n250 W. 57th Street\n6th Floor\nNew York\, NY 10107-0102 \nToll Free: (866) 979-0447 \ninfo@concordtheatricals.com \n\n  \n\nShowtimes\n\nThursday October 23\, 2025 – 07:30PM \nFriday October 24\, 2025 – 07:30PM \nSaturday October 25\, 2025 – 07:30PM \nThursday October 30\, 2025 – 07:30PM \nFriday October 31\, 2025 – 07:30PM \nSaturday November 1\, 2025 – 07:30PM \nThursday November 6\, 2025 – 07:40PM \nFriday November 7\, 2025 – 07:40PM \nSaturday November 8\, 2025 – 07:30PM
URL:https://www.gplt.ca/event/agatha-christies-murder-on-the-orient-express/2025-10-23/
LOCATION:Grande Prairie Live Theatre\, 10130 98 Ave\, Grande Prairie\, Alberta\, T8V 0P6\, Canada
CATEGORIES:Plays
ATTACH;FMTTYPE=image/png:https://www.gplt.ca/wp-content/uploads/2025/09/GPLT-Graphics-2025-03-1024x576-1.png
END:VEVENT
BEGIN:VEVENT
DTSTART;TZID=America/Edmonton:20251024T193000
DTEND;TZID=America/Edmonton:20251024T193000
DTSTAMP:20260422T190642
CREATED:20250923T000730Z
LAST-MODIFIED:20250930T191553Z
UID:10000528-1761334200-1761334200@www.gplt.ca
SUMMARY:Agatha Christie’s Murder on the Orient Express
DESCRIPTION:By Ken Ludwig\n\n\n\n\n“Grande Prairie Live Theatre’s second play of our 63rd Season” \nGrande Prairie Live Theatre brings to our home theatre stage the spine thrilling stage adaptation of one of Agatha Christie’s most popular murder mysteries. \nJust in case Murder on the Orient Express is a mystery to you\, here is a short blurb about this play. Just after midnight\, a snowdrift stops the Orient Express in its tracks. The luxurious train is surprisingly full for the time of the year\, but by the morning it is one passenger fewer. An American tycoon lies dead in his compartment\, stabbed eight times\, his door locked from the inside. Isolated and with a killer in their midst\, the passengers rely on detective Hercule Poirot to identify the murderer – in case he or she decides to strike again. Agatha Christie’s Murder on the Orient Express premiered at the McCarter Theatre Center in Princeton\, NJ on March 14\, 2017. Directed by Emily Mann\, the production featured Alan Corduner\, Veanne Cox\, Julie Halston and Max von Esse \nProduced by special arrangement with; \nConcord Theatricals\n250 W. 57th Street\n6th Floor\nNew York\, NY 10107-0102 \nToll Free: (866) 979-0447 \ninfo@concordtheatricals.com \n\n  \n\nShowtimes\n\nThursday October 23\, 2025 – 07:30PM \nFriday October 24\, 2025 – 07:30PM \nSaturday October 25\, 2025 – 07:30PM \nThursday October 30\, 2025 – 07:30PM \nFriday October 31\, 2025 – 07:30PM \nSaturday November 1\, 2025 – 07:30PM \nThursday November 6\, 2025 – 07:40PM \nFriday November 7\, 2025 – 07:40PM \nSaturday November 8\, 2025 – 07:30PM
URL:https://www.gplt.ca/event/agatha-christies-murder-on-the-orient-express/2025-10-24/
LOCATION:Grande Prairie Live Theatre\, 10130 98 Ave\, Grande Prairie\, Alberta\, T8V 0P6\, Canada
CATEGORIES:Plays
ATTACH;FMTTYPE=image/png:https://www.gplt.ca/wp-content/uploads/2025/09/GPLT-Graphics-2025-03-1024x576-1.png
END:VEVENT
BEGIN:VEVENT
DTSTART;TZID=America/Edmonton:20251025T193000
DTEND;TZID=America/Edmonton:20251025T193000
DTSTAMP:20260422T190642
CREATED:20250923T000730Z
LAST-MODIFIED:20250930T191553Z
UID:10000529-1761420600-1761420600@www.gplt.ca
SUMMARY:Agatha Christie’s Murder on the Orient Express
DESCRIPTION:By Ken Ludwig\n\n\n\n\n“Grande Prairie Live Theatre’s second play of our 63rd Season” \nGrande Prairie Live Theatre brings to our home theatre stage the spine thrilling stage adaptation of one of Agatha Christie’s most popular murder mysteries. \nJust in case Murder on the Orient Express is a mystery to you\, here is a short blurb about this play. Just after midnight\, a snowdrift stops the Orient Express in its tracks. The luxurious train is surprisingly full for the time of the year\, but by the morning it is one passenger fewer. An American tycoon lies dead in his compartment\, stabbed eight times\, his door locked from the inside. Isolated and with a killer in their midst\, the passengers rely on detective Hercule Poirot to identify the murderer – in case he or she decides to strike again. Agatha Christie’s Murder on the Orient Express premiered at the McCarter Theatre Center in Princeton\, NJ on March 14\, 2017. Directed by Emily Mann\, the production featured Alan Corduner\, Veanne Cox\, Julie Halston and Max von Esse \nProduced by special arrangement with; \nConcord Theatricals\n250 W. 57th Street\n6th Floor\nNew York\, NY 10107-0102 \nToll Free: (866) 979-0447 \ninfo@concordtheatricals.com \n\n  \n\nShowtimes\n\nThursday October 23\, 2025 – 07:30PM \nFriday October 24\, 2025 – 07:30PM \nSaturday October 25\, 2025 – 07:30PM \nThursday October 30\, 2025 – 07:30PM \nFriday October 31\, 2025 – 07:30PM \nSaturday November 1\, 2025 – 07:30PM \nThursday November 6\, 2025 – 07:40PM \nFriday November 7\, 2025 – 07:40PM \nSaturday November 8\, 2025 – 07:30PM
URL:https://www.gplt.ca/event/agatha-christies-murder-on-the-orient-express/2025-10-25/
LOCATION:Grande Prairie Live Theatre\, 10130 98 Ave\, Grande Prairie\, Alberta\, T8V 0P6\, Canada
CATEGORIES:Plays
ATTACH;FMTTYPE=image/png:https://www.gplt.ca/wp-content/uploads/2025/09/GPLT-Graphics-2025-03-1024x576-1.png
END:VEVENT
BEGIN:VEVENT
DTSTART;TZID=America/Edmonton:20251030T193000
DTEND;TZID=America/Edmonton:20251030T193000
DTSTAMP:20260422T190642
CREATED:20250923T000730Z
LAST-MODIFIED:20250930T191553Z
UID:10000530-1761852600-1761852600@www.gplt.ca
SUMMARY:Agatha Christie’s Murder on the Orient Express
DESCRIPTION:By Ken Ludwig\n\n\n\n\n“Grande Prairie Live Theatre’s second play of our 63rd Season” \nGrande Prairie Live Theatre brings to our home theatre stage the spine thrilling stage adaptation of one of Agatha Christie’s most popular murder mysteries. \nJust in case Murder on the Orient Express is a mystery to you\, here is a short blurb about this play. Just after midnight\, a snowdrift stops the Orient Express in its tracks. The luxurious train is surprisingly full for the time of the year\, but by the morning it is one passenger fewer. An American tycoon lies dead in his compartment\, stabbed eight times\, his door locked from the inside. Isolated and with a killer in their midst\, the passengers rely on detective Hercule Poirot to identify the murderer – in case he or she decides to strike again. Agatha Christie’s Murder on the Orient Express premiered at the McCarter Theatre Center in Princeton\, NJ on March 14\, 2017. Directed by Emily Mann\, the production featured Alan Corduner\, Veanne Cox\, Julie Halston and Max von Esse \nProduced by special arrangement with; \nConcord Theatricals\n250 W. 57th Street\n6th Floor\nNew York\, NY 10107-0102 \nToll Free: (866) 979-0447 \ninfo@concordtheatricals.com \n\n  \n\nShowtimes\n\nThursday October 23\, 2025 – 07:30PM \nFriday October 24\, 2025 – 07:30PM \nSaturday October 25\, 2025 – 07:30PM \nThursday October 30\, 2025 – 07:30PM \nFriday October 31\, 2025 – 07:30PM \nSaturday November 1\, 2025 – 07:30PM \nThursday November 6\, 2025 – 07:40PM \nFriday November 7\, 2025 – 07:40PM \nSaturday November 8\, 2025 – 07:30PM
URL:https://www.gplt.ca/event/agatha-christies-murder-on-the-orient-express/2025-10-30/
LOCATION:Grande Prairie Live Theatre\, 10130 98 Ave\, Grande Prairie\, Alberta\, T8V 0P6\, Canada
CATEGORIES:Plays
ATTACH;FMTTYPE=image/png:https://www.gplt.ca/wp-content/uploads/2025/09/GPLT-Graphics-2025-03-1024x576-1.png
END:VEVENT
BEGIN:VEVENT
DTSTART;TZID=America/Edmonton:20251031T193000
DTEND;TZID=America/Edmonton:20251031T193000
DTSTAMP:20260422T190642
CREATED:20250923T000730Z
LAST-MODIFIED:20250930T191553Z
UID:10000531-1761939000-1761939000@www.gplt.ca
SUMMARY:Agatha Christie’s Murder on the Orient Express
DESCRIPTION:By Ken Ludwig\n\n\n\n\n“Grande Prairie Live Theatre’s second play of our 63rd Season” \nGrande Prairie Live Theatre brings to our home theatre stage the spine thrilling stage adaptation of one of Agatha Christie’s most popular murder mysteries. \nJust in case Murder on the Orient Express is a mystery to you\, here is a short blurb about this play. Just after midnight\, a snowdrift stops the Orient Express in its tracks. The luxurious train is surprisingly full for the time of the year\, but by the morning it is one passenger fewer. An American tycoon lies dead in his compartment\, stabbed eight times\, his door locked from the inside. Isolated and with a killer in their midst\, the passengers rely on detective Hercule Poirot to identify the murderer – in case he or she decides to strike again. Agatha Christie’s Murder on the Orient Express premiered at the McCarter Theatre Center in Princeton\, NJ on March 14\, 2017. Directed by Emily Mann\, the production featured Alan Corduner\, Veanne Cox\, Julie Halston and Max von Esse \nProduced by special arrangement with; \nConcord Theatricals\n250 W. 57th Street\n6th Floor\nNew York\, NY 10107-0102 \nToll Free: (866) 979-0447 \ninfo@concordtheatricals.com \n\n  \n\nShowtimes\n\nThursday October 23\, 2025 – 07:30PM \nFriday October 24\, 2025 – 07:30PM \nSaturday October 25\, 2025 – 07:30PM \nThursday October 30\, 2025 – 07:30PM \nFriday October 31\, 2025 – 07:30PM \nSaturday November 1\, 2025 – 07:30PM \nThursday November 6\, 2025 – 07:40PM \nFriday November 7\, 2025 – 07:40PM \nSaturday November 8\, 2025 – 07:30PM
URL:https://www.gplt.ca/event/agatha-christies-murder-on-the-orient-express/2025-10-31/
LOCATION:Grande Prairie Live Theatre\, 10130 98 Ave\, Grande Prairie\, Alberta\, T8V 0P6\, Canada
CATEGORIES:Plays
ATTACH;FMTTYPE=image/png:https://www.gplt.ca/wp-content/uploads/2025/09/GPLT-Graphics-2025-03-1024x576-1.png
END:VEVENT
END:VCALENDAR