BEGIN:VCALENDAR
VERSION:2.0
PRODID:-//Grande Prairie Live Theatre - ECPv6.15.20//NONSGML v1.0//EN
CALSCALE:GREGORIAN
METHOD:PUBLISH
X-WR-CALNAME:Grande Prairie Live Theatre
X-ORIGINAL-URL:https://www.gplt.ca
X-WR-CALDESC:Events for Grande Prairie Live Theatre
REFRESH-INTERVAL;VALUE=DURATION:PT1H
X-Robots-Tag:noindex
X-PUBLISHED-TTL:PT1H
BEGIN:VTIMEZONE
TZID:America/Edmonton
BEGIN:DAYLIGHT
TZOFFSETFROM:-0700
TZOFFSETTO:-0600
TZNAME:MDT
DTSTART:20240310T090000
END:DAYLIGHT
BEGIN:STANDARD
TZOFFSETFROM:-0600
TZOFFSETTO:-0700
TZNAME:MST
DTSTART:20241103T080000
END:STANDARD
BEGIN:DAYLIGHT
TZOFFSETFROM:-0700
TZOFFSETTO:-0600
TZNAME:MDT
DTSTART:20250309T090000
END:DAYLIGHT
BEGIN:STANDARD
TZOFFSETFROM:-0600
TZOFFSETTO:-0700
TZNAME:MST
DTSTART:20251102T080000
END:STANDARD
BEGIN:DAYLIGHT
TZOFFSETFROM:-0700
TZOFFSETTO:-0600
TZNAME:MDT
DTSTART:20260308T090000
END:DAYLIGHT
BEGIN:STANDARD
TZOFFSETFROM:-0600
TZOFFSETTO:-0700
TZNAME:MST
DTSTART:20261101T080000
END:STANDARD
END:VTIMEZONE
BEGIN:VEVENT
DTSTART;TZID=America/Edmonton:20251101T193000
DTEND;TZID=America/Edmonton:20251101T193000
DTSTAMP:20260422T171919
CREATED:20250923T000730Z
LAST-MODIFIED:20250930T191553Z
UID:10000532-1762025400-1762025400@www.gplt.ca
SUMMARY:Agatha Christie’s Murder on the Orient Express
DESCRIPTION:By Ken Ludwig\n\n\n\n\n“Grande Prairie Live Theatre’s second play of our 63rd Season” \nGrande Prairie Live Theatre brings to our home theatre stage the spine thrilling stage adaptation of one of Agatha Christie’s most popular murder mysteries. \nJust in case Murder on the Orient Express is a mystery to you\, here is a short blurb about this play. Just after midnight\, a snowdrift stops the Orient Express in its tracks. The luxurious train is surprisingly full for the time of the year\, but by the morning it is one passenger fewer. An American tycoon lies dead in his compartment\, stabbed eight times\, his door locked from the inside. Isolated and with a killer in their midst\, the passengers rely on detective Hercule Poirot to identify the murderer – in case he or she decides to strike again. Agatha Christie’s Murder on the Orient Express premiered at the McCarter Theatre Center in Princeton\, NJ on March 14\, 2017. Directed by Emily Mann\, the production featured Alan Corduner\, Veanne Cox\, Julie Halston and Max von Esse \nProduced by special arrangement with; \nConcord Theatricals\n250 W. 57th Street\n6th Floor\nNew York\, NY 10107-0102 \nToll Free: (866) 979-0447 \ninfo@concordtheatricals.com \n\n  \n\nShowtimes\n\nThursday October 23\, 2025 – 07:30PM \nFriday October 24\, 2025 – 07:30PM \nSaturday October 25\, 2025 – 07:30PM \nThursday October 30\, 2025 – 07:30PM \nFriday October 31\, 2025 – 07:30PM \nSaturday November 1\, 2025 – 07:30PM \nThursday November 6\, 2025 – 07:40PM \nFriday November 7\, 2025 – 07:40PM \nSaturday November 8\, 2025 – 07:30PM
URL:https://www.gplt.ca/event/agatha-christies-murder-on-the-orient-express/2025-11-01/
LOCATION:Grande Prairie Live Theatre\, 10130 98 Ave\, Grande Prairie\, Alberta\, T8V 0P6\, Canada
CATEGORIES:Plays
ATTACH;FMTTYPE=image/png:https://www.gplt.ca/wp-content/uploads/2025/09/GPLT-Graphics-2025-03-1024x576-1.png
END:VEVENT
BEGIN:VEVENT
DTSTART;TZID=America/Edmonton:20251106T193000
DTEND;TZID=America/Edmonton:20251106T193000
DTSTAMP:20260422T171919
CREATED:20250923T000730Z
LAST-MODIFIED:20250930T191553Z
UID:10000533-1762457400-1762457400@www.gplt.ca
SUMMARY:Agatha Christie’s Murder on the Orient Express
DESCRIPTION:By Ken Ludwig\n\n\n\n\n“Grande Prairie Live Theatre’s second play of our 63rd Season” \nGrande Prairie Live Theatre brings to our home theatre stage the spine thrilling stage adaptation of one of Agatha Christie’s most popular murder mysteries. \nJust in case Murder on the Orient Express is a mystery to you\, here is a short blurb about this play. Just after midnight\, a snowdrift stops the Orient Express in its tracks. The luxurious train is surprisingly full for the time of the year\, but by the morning it is one passenger fewer. An American tycoon lies dead in his compartment\, stabbed eight times\, his door locked from the inside. Isolated and with a killer in their midst\, the passengers rely on detective Hercule Poirot to identify the murderer – in case he or she decides to strike again. Agatha Christie’s Murder on the Orient Express premiered at the McCarter Theatre Center in Princeton\, NJ on March 14\, 2017. Directed by Emily Mann\, the production featured Alan Corduner\, Veanne Cox\, Julie Halston and Max von Esse \nProduced by special arrangement with; \nConcord Theatricals\n250 W. 57th Street\n6th Floor\nNew York\, NY 10107-0102 \nToll Free: (866) 979-0447 \ninfo@concordtheatricals.com \n\n  \n\nShowtimes\n\nThursday October 23\, 2025 – 07:30PM \nFriday October 24\, 2025 – 07:30PM \nSaturday October 25\, 2025 – 07:30PM \nThursday October 30\, 2025 – 07:30PM \nFriday October 31\, 2025 – 07:30PM \nSaturday November 1\, 2025 – 07:30PM \nThursday November 6\, 2025 – 07:40PM \nFriday November 7\, 2025 – 07:40PM \nSaturday November 8\, 2025 – 07:30PM
URL:https://www.gplt.ca/event/agatha-christies-murder-on-the-orient-express/2025-11-06/
LOCATION:Grande Prairie Live Theatre\, 10130 98 Ave\, Grande Prairie\, Alberta\, T8V 0P6\, Canada
CATEGORIES:Plays
ATTACH;FMTTYPE=image/png:https://www.gplt.ca/wp-content/uploads/2025/09/GPLT-Graphics-2025-03-1024x576-1.png
END:VEVENT
BEGIN:VEVENT
DTSTART;TZID=America/Edmonton:20251107T193000
DTEND;TZID=America/Edmonton:20251107T193000
DTSTAMP:20260422T171919
CREATED:20250923T000730Z
LAST-MODIFIED:20250930T191553Z
UID:10000534-1762543800-1762543800@www.gplt.ca
SUMMARY:Agatha Christie’s Murder on the Orient Express
DESCRIPTION:By Ken Ludwig\n\n\n\n\n“Grande Prairie Live Theatre’s second play of our 63rd Season” \nGrande Prairie Live Theatre brings to our home theatre stage the spine thrilling stage adaptation of one of Agatha Christie’s most popular murder mysteries. \nJust in case Murder on the Orient Express is a mystery to you\, here is a short blurb about this play. Just after midnight\, a snowdrift stops the Orient Express in its tracks. The luxurious train is surprisingly full for the time of the year\, but by the morning it is one passenger fewer. An American tycoon lies dead in his compartment\, stabbed eight times\, his door locked from the inside. Isolated and with a killer in their midst\, the passengers rely on detective Hercule Poirot to identify the murderer – in case he or she decides to strike again. Agatha Christie’s Murder on the Orient Express premiered at the McCarter Theatre Center in Princeton\, NJ on March 14\, 2017. Directed by Emily Mann\, the production featured Alan Corduner\, Veanne Cox\, Julie Halston and Max von Esse \nProduced by special arrangement with; \nConcord Theatricals\n250 W. 57th Street\n6th Floor\nNew York\, NY 10107-0102 \nToll Free: (866) 979-0447 \ninfo@concordtheatricals.com \n\n  \n\nShowtimes\n\nThursday October 23\, 2025 – 07:30PM \nFriday October 24\, 2025 – 07:30PM \nSaturday October 25\, 2025 – 07:30PM \nThursday October 30\, 2025 – 07:30PM \nFriday October 31\, 2025 – 07:30PM \nSaturday November 1\, 2025 – 07:30PM \nThursday November 6\, 2025 – 07:40PM \nFriday November 7\, 2025 – 07:40PM \nSaturday November 8\, 2025 – 07:30PM
URL:https://www.gplt.ca/event/agatha-christies-murder-on-the-orient-express/2025-11-07/
LOCATION:Grande Prairie Live Theatre\, 10130 98 Ave\, Grande Prairie\, Alberta\, T8V 0P6\, Canada
CATEGORIES:Plays
ATTACH;FMTTYPE=image/png:https://www.gplt.ca/wp-content/uploads/2025/09/GPLT-Graphics-2025-03-1024x576-1.png
END:VEVENT
BEGIN:VEVENT
DTSTART;TZID=America/Edmonton:20251108T193000
DTEND;TZID=America/Edmonton:20251108T193000
DTSTAMP:20260422T171919
CREATED:20250923T000730Z
LAST-MODIFIED:20250930T191553Z
UID:10000535-1762630200-1762630200@www.gplt.ca
SUMMARY:Agatha Christie’s Murder on the Orient Express
DESCRIPTION:By Ken Ludwig\n\n\n\n\n“Grande Prairie Live Theatre’s second play of our 63rd Season” \nGrande Prairie Live Theatre brings to our home theatre stage the spine thrilling stage adaptation of one of Agatha Christie’s most popular murder mysteries. \nJust in case Murder on the Orient Express is a mystery to you\, here is a short blurb about this play. Just after midnight\, a snowdrift stops the Orient Express in its tracks. The luxurious train is surprisingly full for the time of the year\, but by the morning it is one passenger fewer. An American tycoon lies dead in his compartment\, stabbed eight times\, his door locked from the inside. Isolated and with a killer in their midst\, the passengers rely on detective Hercule Poirot to identify the murderer – in case he or she decides to strike again. Agatha Christie’s Murder on the Orient Express premiered at the McCarter Theatre Center in Princeton\, NJ on March 14\, 2017. Directed by Emily Mann\, the production featured Alan Corduner\, Veanne Cox\, Julie Halston and Max von Esse \nProduced by special arrangement with; \nConcord Theatricals\n250 W. 57th Street\n6th Floor\nNew York\, NY 10107-0102 \nToll Free: (866) 979-0447 \ninfo@concordtheatricals.com \n\n  \n\nShowtimes\n\nThursday October 23\, 2025 – 07:30PM \nFriday October 24\, 2025 – 07:30PM \nSaturday October 25\, 2025 – 07:30PM \nThursday October 30\, 2025 – 07:30PM \nFriday October 31\, 2025 – 07:30PM \nSaturday November 1\, 2025 – 07:30PM \nThursday November 6\, 2025 – 07:40PM \nFriday November 7\, 2025 – 07:40PM \nSaturday November 8\, 2025 – 07:30PM
URL:https://www.gplt.ca/event/agatha-christies-murder-on-the-orient-express/2025-11-08/
LOCATION:Grande Prairie Live Theatre\, 10130 98 Ave\, Grande Prairie\, Alberta\, T8V 0P6\, Canada
CATEGORIES:Plays
ATTACH;FMTTYPE=image/png:https://www.gplt.ca/wp-content/uploads/2025/09/GPLT-Graphics-2025-03-1024x576-1.png
END:VEVENT
BEGIN:VEVENT
DTSTART;TZID=America/Edmonton:20251127T193000
DTEND;TZID=America/Edmonton:20251127T193000
DTSTAMP:20260422T171919
CREATED:20250923T004435Z
LAST-MODIFIED:20250930T180204Z
UID:10000006-1764271800-1764271800@www.gplt.ca
SUMMARY:5 Alarm!
DESCRIPTION:By Kristen Da Silva\n\n\n\n\n“Grande Prairie Live Theatre’s third play of our 63rd Season” \nWhat happens when friendship is broken and turns into a bitter rivalry? 5 Alarm is about this and more! Hot Chili\, healing\, and friendship come together in this heartwarming comedy. \nA fairground in Killaloe\, Ontario is home to the annual Wayne Rose Memorial Chili Cook Off\, where Killaloe residents come each year to compete for the honour and the cash prize. The most determined of these is Ava Rose\, who has tried (and failed) to win for sixteen years. This year\, with the help of a new assistant\, Ava returns to battle her former childhood friend and rival. If she can piece together her late father’s missing Five Alarm Chili recipe she might just piece together the mysteries of her past. \n“…Da Silva’s script will keep you guessing where the narrative is heading. And the laughs just keep coming.” \n– Dan Brown\, the London Free Press \n“This rollercoaster adventure that Ava Rose takes\, on her mission to equal the master of all masters chili\, is an intriguing and delightfully funny romp that keeps you guessing on what will happen next.” \n– Doug Harvey\, Port Stanley News \nProduced by special arrangement with: \nMarquis Entertainment Inc.\, 10 Adelaide Street East\, Suite 402\, Toronto\, Ontario M5C 1J3 CANADA\n416-960-9123 x 223\nColin Rivers\, Managing Literary Agent\ninfo@mqlit.ca\n\n  \n\nShowtimes\n\nThursday November 27\, 2025 – 07:30PM \nFriday November 28\, 2025 – 07:30PM \nSaturday November 29\, 2025 – 07:30PM \nThursday December 4\, 2025 – 07:30PM \nFriday December 5\, 2025 – 07:30PM \nSaturday December 6\, 2025 – 07:30PM \nThursday December 11\, 2025 – 07:30PM \nFriday December 12\, 2025 – 07:30PM \nSaturday December 13\, 2025 – 07:40PM
URL:https://www.gplt.ca/event/5-alarm/2025-11-27/
LOCATION:Grande Prairie Live Theatre\, 10130 98 Ave\, Grande Prairie\, Alberta\, T8V 0P6\, Canada
CATEGORIES:Plays
ATTACH;FMTTYPE=image/png:https://www.gplt.ca/wp-content/uploads/2025/09/GPLT-Graphics-2025-04-1024x576-1.png
END:VEVENT
BEGIN:VEVENT
DTSTART;TZID=America/Edmonton:20251128T193000
DTEND;TZID=America/Edmonton:20251128T193000
DTSTAMP:20260422T171919
CREATED:20250923T004435Z
LAST-MODIFIED:20250930T180204Z
UID:10000364-1764358200-1764358200@www.gplt.ca
SUMMARY:5 Alarm!
DESCRIPTION:By Kristen Da Silva\n\n\n\n\n“Grande Prairie Live Theatre’s third play of our 63rd Season” \nWhat happens when friendship is broken and turns into a bitter rivalry? 5 Alarm is about this and more! Hot Chili\, healing\, and friendship come together in this heartwarming comedy. \nA fairground in Killaloe\, Ontario is home to the annual Wayne Rose Memorial Chili Cook Off\, where Killaloe residents come each year to compete for the honour and the cash prize. The most determined of these is Ava Rose\, who has tried (and failed) to win for sixteen years. This year\, with the help of a new assistant\, Ava returns to battle her former childhood friend and rival. If she can piece together her late father’s missing Five Alarm Chili recipe she might just piece together the mysteries of her past. \n“…Da Silva’s script will keep you guessing where the narrative is heading. And the laughs just keep coming.” \n– Dan Brown\, the London Free Press \n“This rollercoaster adventure that Ava Rose takes\, on her mission to equal the master of all masters chili\, is an intriguing and delightfully funny romp that keeps you guessing on what will happen next.” \n– Doug Harvey\, Port Stanley News \nProduced by special arrangement with: \nMarquis Entertainment Inc.\, 10 Adelaide Street East\, Suite 402\, Toronto\, Ontario M5C 1J3 CANADA\n416-960-9123 x 223\nColin Rivers\, Managing Literary Agent\ninfo@mqlit.ca\n\n  \n\nShowtimes\n\nThursday November 27\, 2025 – 07:30PM \nFriday November 28\, 2025 – 07:30PM \nSaturday November 29\, 2025 – 07:30PM \nThursday December 4\, 2025 – 07:30PM \nFriday December 5\, 2025 – 07:30PM \nSaturday December 6\, 2025 – 07:30PM \nThursday December 11\, 2025 – 07:30PM \nFriday December 12\, 2025 – 07:30PM \nSaturday December 13\, 2025 – 07:40PM
URL:https://www.gplt.ca/event/5-alarm/2025-11-28/
LOCATION:Grande Prairie Live Theatre\, 10130 98 Ave\, Grande Prairie\, Alberta\, T8V 0P6\, Canada
CATEGORIES:Plays
ATTACH;FMTTYPE=image/png:https://www.gplt.ca/wp-content/uploads/2025/09/GPLT-Graphics-2025-04-1024x576-1.png
END:VEVENT
BEGIN:VEVENT
DTSTART;TZID=America/Edmonton:20251129T193000
DTEND;TZID=America/Edmonton:20251129T193000
DTSTAMP:20260422T171919
CREATED:20250923T004435Z
LAST-MODIFIED:20250930T180204Z
UID:10000365-1764444600-1764444600@www.gplt.ca
SUMMARY:5 Alarm!
DESCRIPTION:By Kristen Da Silva\n\n\n\n\n“Grande Prairie Live Theatre’s third play of our 63rd Season” \nWhat happens when friendship is broken and turns into a bitter rivalry? 5 Alarm is about this and more! Hot Chili\, healing\, and friendship come together in this heartwarming comedy. \nA fairground in Killaloe\, Ontario is home to the annual Wayne Rose Memorial Chili Cook Off\, where Killaloe residents come each year to compete for the honour and the cash prize. The most determined of these is Ava Rose\, who has tried (and failed) to win for sixteen years. This year\, with the help of a new assistant\, Ava returns to battle her former childhood friend and rival. If she can piece together her late father’s missing Five Alarm Chili recipe she might just piece together the mysteries of her past. \n“…Da Silva’s script will keep you guessing where the narrative is heading. And the laughs just keep coming.” \n– Dan Brown\, the London Free Press \n“This rollercoaster adventure that Ava Rose takes\, on her mission to equal the master of all masters chili\, is an intriguing and delightfully funny romp that keeps you guessing on what will happen next.” \n– Doug Harvey\, Port Stanley News \nProduced by special arrangement with: \nMarquis Entertainment Inc.\, 10 Adelaide Street East\, Suite 402\, Toronto\, Ontario M5C 1J3 CANADA\n416-960-9123 x 223\nColin Rivers\, Managing Literary Agent\ninfo@mqlit.ca\n\n  \n\nShowtimes\n\nThursday November 27\, 2025 – 07:30PM \nFriday November 28\, 2025 – 07:30PM \nSaturday November 29\, 2025 – 07:30PM \nThursday December 4\, 2025 – 07:30PM \nFriday December 5\, 2025 – 07:30PM \nSaturday December 6\, 2025 – 07:30PM \nThursday December 11\, 2025 – 07:30PM \nFriday December 12\, 2025 – 07:30PM \nSaturday December 13\, 2025 – 07:40PM
URL:https://www.gplt.ca/event/5-alarm/2025-11-29/
LOCATION:Grande Prairie Live Theatre\, 10130 98 Ave\, Grande Prairie\, Alberta\, T8V 0P6\, Canada
CATEGORIES:Plays
ATTACH;FMTTYPE=image/png:https://www.gplt.ca/wp-content/uploads/2025/09/GPLT-Graphics-2025-04-1024x576-1.png
END:VEVENT
END:VCALENDAR