BEGIN:VCALENDAR
VERSION:2.0
PRODID:-//Grande Prairie Live Theatre - ECPv6.15.20//NONSGML v1.0//EN
CALSCALE:GREGORIAN
METHOD:PUBLISH
X-WR-CALNAME:Grande Prairie Live Theatre
X-ORIGINAL-URL:https://www.gplt.ca
X-WR-CALDESC:Events for Grande Prairie Live Theatre
REFRESH-INTERVAL;VALUE=DURATION:PT1H
X-Robots-Tag:noindex
X-PUBLISHED-TTL:PT1H
BEGIN:VTIMEZONE
TZID:America/Edmonton
BEGIN:DAYLIGHT
TZOFFSETFROM:-0700
TZOFFSETTO:-0600
TZNAME:MDT
DTSTART:20240310T090000
END:DAYLIGHT
BEGIN:STANDARD
TZOFFSETFROM:-0600
TZOFFSETTO:-0700
TZNAME:MST
DTSTART:20241103T080000
END:STANDARD
BEGIN:DAYLIGHT
TZOFFSETFROM:-0700
TZOFFSETTO:-0600
TZNAME:MDT
DTSTART:20250309T090000
END:DAYLIGHT
BEGIN:STANDARD
TZOFFSETFROM:-0600
TZOFFSETTO:-0700
TZNAME:MST
DTSTART:20251102T080000
END:STANDARD
BEGIN:DAYLIGHT
TZOFFSETFROM:-0700
TZOFFSETTO:-0600
TZNAME:MDT
DTSTART:20260308T090000
END:DAYLIGHT
BEGIN:STANDARD
TZOFFSETFROM:-0600
TZOFFSETTO:-0700
TZNAME:MST
DTSTART:20261101T080000
END:STANDARD
BEGIN:DAYLIGHT
TZOFFSETFROM:-0700
TZOFFSETTO:-0600
TZNAME:MDT
DTSTART:20270314T090000
END:DAYLIGHT
BEGIN:STANDARD
TZOFFSETFROM:-0600
TZOFFSETTO:-0700
TZNAME:MST
DTSTART:20271107T080000
END:STANDARD
END:VTIMEZONE
BEGIN:VEVENT
DTSTART;TZID=America/Edmonton:20260419T080000
DTEND;TZID=America/Edmonton:20260419T170000
DTSTAMP:20260422T102122
CREATED:20260420T160050Z
LAST-MODIFIED:20260420T160541Z
UID:10000856-1776585600-1776618000@www.gplt.ca
SUMMARY:Now Hiring: Rising Star Instructors
DESCRIPTION:Full Job Description:\nRising Star Instructors – Summer 2026 \nGrande Prairie Live Theatre Society\nStart Date: May 5\, 2026 \nEnd Date: August 21\, 2026 \nAbout the Role \nThe Grande Prairie Live Theatre is now accepting applications for three (3) Instructor positions for our 2026 Rising Star Summer Drama Program. \nRising Stars is a summer theatre school dedicated to teaching the youth in Grande Prairie and surrounding areas the power of their voice in art. We teach the fundamental building blocks of acting\, improvisation\, creative movement\, voice\, sound\, storytelling\, and playwriting. The Instructors also facilitate their students in developing a final presentation\, which is performed for friends and family on the final day of camp. The Grande Prairie Live Theatre strives to create and maintain an inclusive environment that focuses on allowing youth to find who they are as artists and to grow in that world. \nThe Instructors will work under the guidance of the General Manager to assist in program development and be responsible for the overall execution and creation of the curriculum. Instructors will also work closely with Grande Prairie Live Theatre administrative and support staff. \nSuccessful Applicants Will \n\nLead daily camp activities\, ensuring a fun\, safe\, and inclusive environment\nInstruct young people between the ages of 7 – 14 and have had previous experience in this area\nCommunicate professionally with parents\, guardians\, students\, and Grande Prairie Live Theatre staff\nHave a solid understanding of the creative theatre process and have experience and/or education in this area\nFollow all safety protocols and emergency procedures\nDisplay strong communicative and interpersonal skills\nHave motivation to learn how to operate theatre technical equipment\nSome experience with graphic design is an asset\nBe committed to the creative development and the theatrical education of the participants\n\nRequired Qualifications \n\nApplicants must be youth aged 18 to 30 years\nFull daytime availability from May – August 2026 (Monday–Friday)\nClear Valid Criminal Record Check\, Vulnerable Sector Check\, and Intervention Record Check\nAt least one term or semester of a post-secondary Drama/Theatre class and/or Education class is an asset\nExperience working with youth with special needs and behaviour management is an asset\nStandard First Aid & CPR-C certification is an asset\n\nThe Grande Prairie Live Theatre is committed to building a culturally diverse environment and encourages applicants from all backgrounds and abilities to apply. \nHow to Apply \nPlease respond with a cover letter and resume to John Moutray\, General Manager\, in-person\, or e-mail by April 30\, 2026. Suitable candidates will be contacted for an interview. \nJob Type: Full-time\, Contract \nPay: $21.00 per hour \nExpected Hours: 37.5 per week \nWork Location: In-person
URL:https://www.gplt.ca/event/now-hiring-rising-star-instructors/
LOCATION:Grande Prairie Live Theatre\, 10130 98 Ave\, Grande Prairie\, Alberta\, T8V 0P6\, Canada
CATEGORIES:Special Events
ATTACH;FMTTYPE=image/png:https://www.gplt.ca/wp-content/uploads/2026/04/1.png
END:VEVENT
BEGIN:VEVENT
DTSTART;TZID=America/Edmonton:20260321T180000
DTEND;TZID=America/Edmonton:20260321T233000
DTSTAMP:20260422T102122
CREATED:20260202T200654Z
LAST-MODIFIED:20260202T200654Z
UID:10000833-1774116000-1774135800@www.gplt.ca
SUMMARY:Grande Prairie & District Oldtimer's Association 2026 Annual Banquet
DESCRIPTION:The Grande Prairie & District Oldtimers’ Association welcomes you to the 2026 annual banquet! March 21st\, 2026 at Five Mile Hall! \nLive music by Pipestone Jammers\, presentations\, draws\, auction and more!
URL:https://www.gplt.ca/event/grande-prairie-district-oldtimers-association-2026-annual-banquet/
LOCATION:Alberta
CATEGORIES:Special Events
ATTACH;FMTTYPE=image/webp:https://www.gplt.ca/wp-content/uploads/2026/02/banquet.webp
END:VEVENT
BEGIN:VEVENT
DTSTART;TZID=America/Edmonton:20260306T180000
DTEND;TZID=America/Edmonton:20260306T190000
DTSTAMP:20260422T102122
CREATED:20260209T164122Z
LAST-MODIFIED:20260209T164339Z
UID:10000843-1772820000-1772823600@www.gplt.ca
SUMMARY:Friends Paint Night Pre Paint Night!
DESCRIPTION:Bring your friends and have a Paint Night before you see the play!  Your paint night includes a glass of wine\, charcuterie and of course all the paint materials and supplies you will need to create a wonderful 5×7 masterpiece led by the very talented Shanda Fuller of Fuller Fine Art. \nThe pre show Paint Night will start at 6 upstairs in the Encore Lounge and will finish about 7\, before doors the doors open to the general public for the Paint Night play which starts at 7:30pm.  Your painted art will continue to dry as you watch the play. When the play has finished simply head back to Encore’s to claim your piece and take it home! \nBring an apron\, or wear something you don’t mind maybe getting a little paint on. \nSeason ticket holder\, & want to add on the Friends Paint Night?  Call the Box Office for details! \nHave your tickets already\, but want to add on the Friends Paint Night? We have something for you too!  See below for details \nMake it a Combo! Friends Paint Night & a Play!  Call the Box Office to reserve if there’s more than 2 in your party (780-538-1616)
URL:https://www.gplt.ca/event/friends-paint-night-pre-paint-night/2026-03-06/
LOCATION:Grande Prairie Live Theatre\, 10130 98 Ave\, Grande Prairie\, Alberta\, T8V 0P6\, Canada
CATEGORIES:Special Events
ATTACH;FMTTYPE=image/webp:https://www.gplt.ca/wp-content/uploads/2026/02/14ef0bc0-d8b.webp
END:VEVENT
BEGIN:VEVENT
DTSTART;TZID=America/Edmonton:20260228T180000
DTEND;TZID=America/Edmonton:20260228T190000
DTSTAMP:20260422T102122
CREATED:20260209T164122Z
LAST-MODIFIED:20260209T164339Z
UID:10000842-1772301600-1772305200@www.gplt.ca
SUMMARY:Friends Paint Night Pre Paint Night!
DESCRIPTION:Bring your friends and have a Paint Night before you see the play!  Your paint night includes a glass of wine\, charcuterie and of course all the paint materials and supplies you will need to create a wonderful 5×7 masterpiece led by the very talented Shanda Fuller of Fuller Fine Art. \nThe pre show Paint Night will start at 6 upstairs in the Encore Lounge and will finish about 7\, before doors the doors open to the general public for the Paint Night play which starts at 7:30pm.  Your painted art will continue to dry as you watch the play. When the play has finished simply head back to Encore’s to claim your piece and take it home! \nBring an apron\, or wear something you don’t mind maybe getting a little paint on. \nSeason ticket holder\, & want to add on the Friends Paint Night?  Call the Box Office for details! \nHave your tickets already\, but want to add on the Friends Paint Night? We have something for you too!  See below for details \nMake it a Combo! Friends Paint Night & a Play!  Call the Box Office to reserve if there’s more than 2 in your party (780-538-1616)
URL:https://www.gplt.ca/event/friends-paint-night-pre-paint-night/2026-02-28/
LOCATION:Grande Prairie Live Theatre\, 10130 98 Ave\, Grande Prairie\, Alberta\, T8V 0P6\, Canada
CATEGORIES:Special Events
ATTACH;FMTTYPE=image/webp:https://www.gplt.ca/wp-content/uploads/2026/02/14ef0bc0-d8b.webp
END:VEVENT
BEGIN:VEVENT
DTSTART;TZID=America/Edmonton:20260220T180000
DTEND;TZID=America/Edmonton:20260220T190000
DTSTAMP:20260422T102122
CREATED:20260209T164122Z
LAST-MODIFIED:20260209T164339Z
UID:10000841-1771610400-1771614000@www.gplt.ca
SUMMARY:Friends Paint Night Pre Paint Night!
DESCRIPTION:Bring your friends and have a Paint Night before you see the play!  Your paint night includes a glass of wine\, charcuterie and of course all the paint materials and supplies you will need to create a wonderful 5×7 masterpiece led by the very talented Shanda Fuller of Fuller Fine Art. \nThe pre show Paint Night will start at 6 upstairs in the Encore Lounge and will finish about 7\, before doors the doors open to the general public for the Paint Night play which starts at 7:30pm.  Your painted art will continue to dry as you watch the play. When the play has finished simply head back to Encore’s to claim your piece and take it home! \nBring an apron\, or wear something you don’t mind maybe getting a little paint on. \nSeason ticket holder\, & want to add on the Friends Paint Night?  Call the Box Office for details! \nHave your tickets already\, but want to add on the Friends Paint Night? We have something for you too!  See below for details \nMake it a Combo! Friends Paint Night & a Play!  Call the Box Office to reserve if there’s more than 2 in your party (780-538-1616)
URL:https://www.gplt.ca/event/friends-paint-night-pre-paint-night/2026-02-20/
LOCATION:Grande Prairie Live Theatre\, 10130 98 Ave\, Grande Prairie\, Alberta\, T8V 0P6\, Canada
CATEGORIES:Special Events
ATTACH;FMTTYPE=image/webp:https://www.gplt.ca/wp-content/uploads/2026/02/14ef0bc0-d8b.webp
END:VEVENT
BEGIN:VEVENT
DTSTART;TZID=America/Edmonton:20251219T163000
DTEND;TZID=America/Edmonton:20251219T190000
DTSTAMP:20260422T102122
CREATED:20251202T163055Z
LAST-MODIFIED:20251203T173117Z
UID:10000826-1766161800-1766170800@www.gplt.ca
SUMMARY:Family Sing Along
DESCRIPTION:Bring your friends and family and join us for an fun evening filled with the songs that everyone loves\, led by Rick & his wonderful group of carolers! \nAnd… despite his busy\, packed\, and ridiculous schedule around this time of year; we’ve even secured an appearance by the big man himself. That’s right: ole Saint Nicholas in person: Kris Kringle/Père Noël/Sinterklaas/Svyaty Mykolay… the one and only Santa Claus will be here in the flesh\, at the Grande Prairie Live Theatre! \nComplimentary Hot Chocolate & cookies will be served in the lobby. \nVisits w/ Santa from 5-6\, Sing Along from 6-8! \nTickets are $10 each\, 2 and younger free.
URL:https://www.gplt.ca/event/family-sing-along/
LOCATION:Grande Prairie Live Theatre\, 10130 98 Ave\, Grande Prairie\, Alberta\, T8V 0P6\, Canada
CATEGORIES:Special Events
ATTACH;FMTTYPE=image/png:https://www.gplt.ca/wp-content/uploads/2025/12/Option-1.png
END:VEVENT
BEGIN:VEVENT
DTSTART;TZID=America/Edmonton:20251031T200000
DTEND;TZID=America/Edmonton:20251031T200000
DTSTAMP:20260422T102122
CREATED:20250929T224238Z
LAST-MODIFIED:20250930T193604Z
UID:10000015-1761940800-1761940800@www.gplt.ca
SUMMARY:PRIMAA Presents: Fight Night & the Frightening 48 Film Competition
DESCRIPTION:Want to see your horror film on the big screen this Halloween?\nThe Frightening 48 is open for registration! \nChallenge Dates:\nKicks off: October 3 at 7PM\nWraps up: October 5 at 7PM \nOnce the clock starts\, teams will get a set of spooky and horrifying prompts\, with just two days to write\, shoot\, edit\, and submit a terrifying short film. Expect chaos. Embrace caffeine. Unleash your creativity. \nEntry Fee:\n$20 per team \nFREE if any team member is a PRIMAA member! \nPremiere & Prizes:\nAll completed films will screen at Fright Night on October 31 at 10PM — with awards for Audience Choice and Judges’ Picks. So don’t forget to invite your cheer squad!\nFree Fuel provided by Pizza Hut — because horror and hunger don’t mix \nBONUS: Two door prizes after the Frightening48 screening! Stick around after the awards for our Midnight Movie to close out the Fright Night celebration with a BONUS third door prize for the night owls! \nRegister your team here: \nhttps://docs.google.com/…/1sHGISsG57R2y2NsJ…/viewform… \nDeadline to register: September 29 \nDare to compete for some excellent prizes?
URL:https://www.gplt.ca/event/fight-night-the-frightening-48-film-competition/
LOCATION:KMSC Law Performing Arts Theatre\, 300 Arbour Hills Blvd\, Grande Prairie\, Alberta\, T8X 0V2\, Canada
CATEGORIES:Special Events
ATTACH;FMTTYPE=image/png:https://www.gplt.ca/wp-content/uploads/2025/09/FRIGHTENING48-2025.png
END:VEVENT
BEGIN:VEVENT
DTSTART;TZID=America/Edmonton:20251018T163000
DTEND;TZID=America/Edmonton:20251018T163000
DTSTAMP:20260422T102122
CREATED:20250904T082539Z
LAST-MODIFIED:20250930T191653Z
UID:10000002-1760805000-1760805000@www.gplt.ca
SUMMARY:“From Poland With Love” Belly Dance Show
DESCRIPTION:This show has been postponed. There will be a new date\, so stay tuned!\nJoin us for our 14th Annual Bellydancing Show\, which year after year brings together amazing performers local and from out of town and Internationally known Star dancers. \nGet mesmerized by diversity of different styles of dance brought to one stage. \nThis year our Star dancer is Jasirah of Poland- master instructor\, choreographer and charismatic dancer with her own unique style. \nTickets can be purchased in advance from the Grande Prairie Live Theatre Box Office in person or over the phone: 780 538 1616 \nAdvance tickets are $35 plus a $4.50 per ticket service selling fee. \nTickets sold at the door are $40 plus a $4.50 per ticket service selling fee.
URL:https://www.gplt.ca/event/from-poland-with-love-belly-dance-show/
LOCATION:Grande Prairie Live Theatre\, 10130 98 Ave\, Grande Prairie\, Alberta\, T8V 0P6\, Canada
CATEGORIES:Special Events
ATTACH;FMTTYPE=image/jpeg:https://www.gplt.ca/wp-content/uploads/2025/09/2025-Moondance-Shimmy-Bellydance-poster-e1745873251343.jpg
END:VEVENT
END:VCALENDAR