BEGIN:VCALENDAR
VERSION:2.0
PRODID:-//Grande Prairie Live Theatre - ECPv6.15.20//NONSGML v1.0//EN
CALSCALE:GREGORIAN
METHOD:PUBLISH
X-ORIGINAL-URL:https://www.gplt.ca
X-WR-CALDESC:Events for Grande Prairie Live Theatre
REFRESH-INTERVAL;VALUE=DURATION:PT1H
X-Robots-Tag:noindex
X-PUBLISHED-TTL:PT1H
BEGIN:VTIMEZONE
TZID:America/Edmonton
BEGIN:DAYLIGHT
TZOFFSETFROM:-0700
TZOFFSETTO:-0600
TZNAME:MDT
DTSTART:20250309T090000
END:DAYLIGHT
BEGIN:STANDARD
TZOFFSETFROM:-0600
TZOFFSETTO:-0700
TZNAME:MST
DTSTART:20251102T080000
END:STANDARD
BEGIN:DAYLIGHT
TZOFFSETFROM:-0700
TZOFFSETTO:-0600
TZNAME:MDT
DTSTART:20260308T090000
END:DAYLIGHT
BEGIN:STANDARD
TZOFFSETFROM:-0600
TZOFFSETTO:-0700
TZNAME:MST
DTSTART:20261101T080000
END:STANDARD
BEGIN:DAYLIGHT
TZOFFSETFROM:-0700
TZOFFSETTO:-0600
TZNAME:MDT
DTSTART:20270314T090000
END:DAYLIGHT
BEGIN:STANDARD
TZOFFSETFROM:-0600
TZOFFSETTO:-0700
TZNAME:MST
DTSTART:20271107T080000
END:STANDARD
END:VTIMEZONE
BEGIN:VEVENT
DTSTART;TZID=America/Edmonton:20260430T193000
DTEND;TZID=America/Edmonton:20260430T220000
DTSTAMP:20260421T042241
CREATED:20260331T213352Z
LAST-MODIFIED:20260331T214107Z
UID:10000849-1777577400-1777586400@www.gplt.ca
SUMMARY:Symphonic Wind Ensemble Concert
DESCRIPTION:Date: Thursday\, April 30th \nTime: 7:30 pm \nLocation: Douglas J. Cardinal Performing Arts Centre\, Northwestern Polytechnic \nThis concert features Raider’s of the Lost Ark March; Bond\, James Bond; Ellington; Pineapple Poll; and selections by J.S. Bach\, Percy Grainger\, Shostakovich\, William Shuman\, and some surprise selections. \nTickets: \nAdult $25 | Students/Seniors $15 | Children under 6 $5
URL:https://www.gplt.ca/event/symphonic-wind-ensemble-concert/
LOCATION:Douglas J. Cardinal Performing Arts Centre\, 10726 106 Ave\, Grande Prairie\, Alberta\, T8V 4C4\, Canada
CATEGORIES:Concerts
ATTACH;FMTTYPE=image/jpeg:https://www.gplt.ca/wp-content/uploads/2026/03/wind_ensemble_FINAL_page-0001-scaled.jpg
END:VEVENT
BEGIN:VEVENT
DTSTART;TZID=America/Edmonton:20260512T193000
DTEND;TZID=America/Edmonton:20260512T220000
DTSTAMP:20260421T042241
CREATED:20260310T212250Z
LAST-MODIFIED:20260310T212250Z
UID:10000845-1778614200-1778623200@www.gplt.ca
SUMMARY:The Next Big Sing
DESCRIPTION:The Kendol Entertainment Group is pleased to announce ‘The Next Best Sing’- Where the Crowd becomes the Choir! \nMusic has the unique ability to transcend barriers and bring people together in ways that few other activities can. “The Next Big Sing” is the embodiment of this belief and brings you the unique opportunity to be a part of something bigger by creating a space where hearts and voices harmonize\, uniting individuals from all walks of life through the joy of song. \nWhether you’re a trained vocalist or someone who only sings in the shower\, “The Next Big Sing” welcomes everyone. Step out of the mundane and into an extraordinary experience where\, with the guidance of professional musicians\, the crowd will learn (and sing!) their parts of popular songs. By the end of the night\, we will come together and unify our voices in a stunning performance of harmony and beauty. The crowd will work with coaches\, be accompanied by a professional band\, and even have the memories recorded and shared by professional videographers! \nThis will be no small event and we are pleased to offer this unique opportunity to our community. Together we can make this a night to remember as we become ‘The Next Big Sing’!
URL:https://www.gplt.ca/event/the-next-big-sing/
LOCATION:Douglas J. Cardinal Performing Arts Centre\, 10726 106 Ave\, Grande Prairie\, Alberta\, T8V 4C4\, Canada
CATEGORIES:Concerts
ATTACH;FMTTYPE=image/webp:https://www.gplt.ca/wp-content/uploads/2026/03/1b7d8a88-56c.webp
END:VEVENT
END:VCALENDAR