BEGIN:VCALENDAR
VERSION:2.0
PRODID:-//Grande Prairie Live Theatre - ECPv6.15.20//NONSGML v1.0//EN
CALSCALE:GREGORIAN
METHOD:PUBLISH
X-WR-CALNAME:Grande Prairie Live Theatre
X-ORIGINAL-URL:https://www.gplt.ca
X-WR-CALDESC:Events for Grande Prairie Live Theatre
REFRESH-INTERVAL;VALUE=DURATION:PT1H
X-Robots-Tag:noindex
X-PUBLISHED-TTL:PT1H
BEGIN:VTIMEZONE
TZID:America/Edmonton
BEGIN:DAYLIGHT
TZOFFSETFROM:-0700
TZOFFSETTO:-0600
TZNAME:MDT
DTSTART:20240310T090000
END:DAYLIGHT
BEGIN:STANDARD
TZOFFSETFROM:-0600
TZOFFSETTO:-0700
TZNAME:MST
DTSTART:20241103T080000
END:STANDARD
BEGIN:DAYLIGHT
TZOFFSETFROM:-0700
TZOFFSETTO:-0600
TZNAME:MDT
DTSTART:20250309T090000
END:DAYLIGHT
BEGIN:STANDARD
TZOFFSETFROM:-0600
TZOFFSETTO:-0700
TZNAME:MST
DTSTART:20251102T080000
END:STANDARD
BEGIN:DAYLIGHT
TZOFFSETFROM:-0700
TZOFFSETTO:-0600
TZNAME:MDT
DTSTART:20260308T090000
END:DAYLIGHT
BEGIN:STANDARD
TZOFFSETFROM:-0600
TZOFFSETTO:-0700
TZNAME:MST
DTSTART:20261101T080000
END:STANDARD
BEGIN:DAYLIGHT
TZOFFSETFROM:-0700
TZOFFSETTO:-0600
TZNAME:MDT
DTSTART:20270314T090000
END:DAYLIGHT
BEGIN:STANDARD
TZOFFSETFROM:-0600
TZOFFSETTO:-0700
TZNAME:MST
DTSTART:20271107T080000
END:STANDARD
END:VTIMEZONE
BEGIN:VEVENT
DTSTART;TZID=America/Edmonton:20260220T193000
DTEND;TZID=America/Edmonton:20260220T213000
DTSTAMP:20260422T141127
CREATED:20260119T200346Z
LAST-MODIFIED:20260123T181656Z
UID:10000827-1771615800-1771623000@www.gplt.ca
SUMMARY:GP Music Society's Vocal Jazz with Big Band - A Valentine's Celebration
DESCRIPTION:Vocal Jazz with Big Band \nValentine’s Day Celebration Fundraising Concert \nFriday\, Feb 20th\, 7:30PM at KMSC Law Performing Arts Theatre \nConcert featuring some of Grande Prairie’s finest singers performing songs associated with Manhattan Transfer\, Stevie Wonder\, Joe Williams\, Robbie Williams\,  Etta James\, Tony Bennett\, Adele\, Ella Fitzgerald\, Frank Sinatra\, Natalie Cole\, Michael Bublé\, Shirley Horn\, Michel Legrand\, Yes\, Antonio Carlos Jobim\, Blood Sweat & Tears. \nBacked up by the Grande Prairie Jazz Ensemble directed by Dr. Robert Howey \nTickets are General Admission $35\, Students/Seniors (65+) $20   Open Seating. \nAvailable online through: GPLT Theatre Box Office\, Online www.gplt.ca or at the door. \nCome out and hear some of Grande Prairie’s finest singers including Caitlin Card\, Ted Senecal\, Roxanne Gordey\, Chelsie Pall and David Crouse.  These singers have been featured extensively in GPLT productions\, Boys’ Choir concerts\, Grande Prairie Opera concerts and Pop-Up Jazz events. As this is a Valentine’s Day Tribute\, love songs are in the program.
URL:https://www.gplt.ca/event/gp-music-societys-vocal-jazz-with-big-band-a-valentines-celebration/
LOCATION:KMSC Law Performing Arts Theatre\, 300 Arbour Hills Blvd\, Grande Prairie\, Alberta\, T8X 0V2\, Canada
CATEGORIES:Concerts
ATTACH;FMTTYPE=image/jpeg:https://www.gplt.ca/wp-content/uploads/2026/01/GP-Music-Society-vocal_jazz_poster_FINAL-e1770010025345.jpg
END:VEVENT
BEGIN:VEVENT
DTSTART;TZID=America/Edmonton:20251206T180000
DTEND;TZID=America/Edmonton:20251206T190000
DTSTAMP:20260422T141127
CREATED:20251103T170534Z
LAST-MODIFIED:20251114T233129Z
UID:10000547-1765044000-1765047600@www.gplt.ca
SUMMARY:Grande Prairie Children's Theatre Christmas Spectacular
DESCRIPTION:The Grande Prairie Children’s Theatre is an independent theatre company dedicated to bringing high-quality musical theatre education to youth in our community. \nOur programs feature students aged 5–17 who love to sing\, dance\, act\, and discover the magic that happens both onstage and behind the scenes. \nThis season\, our young performers have been working hard—learning new skills\, building confidence\, and preparing to showcase their talents in our 2nd Annual Christmas Spectacular. From songs and choreography to festive storytelling\, they’re ready to light up the stage with holiday cheer. \nUnder the direction of our passionate creative team—Producer and Creative Director\, Nikki Meeres-Fournier; Director\, John Moutray; Stage Manager\, Hailey Hayter; Music Director\, Laurie Gravengard; and Assistant Student Teachers\, Taylor Kuntz and Olivia Mann—our 77 talented students are excited to bring you an unforgettable celebration of music\, theatre\, and Christmas spirit. \nJoin us on Saturday\, December 6th\, 2025\, at 2:00 PM or 6:00 PM\nKMSC Performing Arts Theatre \nDon’t miss this heartwarming showcase of young local talent—get your tickets today and celebrate the magic of the season with us.
URL:https://www.gplt.ca/event/christmasspectacular/2025-12-06/6/
LOCATION:KMSC Law Performing Arts Theatre\, 300 Arbour Hills Blvd\, Grande Prairie\, Alberta\, T8X 0V2\, Canada
ATTACH;FMTTYPE=image/png:https://www.gplt.ca/wp-content/uploads/2025/11/Christmas-Spectacular-2025-Banner-1200x600px.png
END:VEVENT
BEGIN:VEVENT
DTSTART;TZID=America/Edmonton:20251206T140000
DTEND;TZID=America/Edmonton:20251206T150000
DTSTAMP:20260422T141127
CREATED:20251103T170534Z
LAST-MODIFIED:20251114T233129Z
UID:10000546-1765029600-1765033200@www.gplt.ca
SUMMARY:Grande Prairie Children's Theatre Christmas Spectacular
DESCRIPTION:The Grande Prairie Children’s Theatre is an independent theatre company dedicated to bringing high-quality musical theatre education to youth in our community. \nOur programs feature students aged 5–17 who love to sing\, dance\, act\, and discover the magic that happens both onstage and behind the scenes. \nThis season\, our young performers have been working hard—learning new skills\, building confidence\, and preparing to showcase their talents in our 2nd Annual Christmas Spectacular. From songs and choreography to festive storytelling\, they’re ready to light up the stage with holiday cheer. \nUnder the direction of our passionate creative team—Producer and Creative Director\, Nikki Meeres-Fournier; Director\, John Moutray; Stage Manager\, Hailey Hayter; Music Director\, Laurie Gravengard; and Assistant Student Teachers\, Taylor Kuntz and Olivia Mann—our 77 talented students are excited to bring you an unforgettable celebration of music\, theatre\, and Christmas spirit. \nJoin us on Saturday\, December 6th\, 2025\, at 2:00 PM or 6:00 PM\nKMSC Performing Arts Theatre \nDon’t miss this heartwarming showcase of young local talent—get your tickets today and celebrate the magic of the season with us.
URL:https://www.gplt.ca/event/christmasspectacular/2025-12-06/5/
LOCATION:KMSC Law Performing Arts Theatre\, 300 Arbour Hills Blvd\, Grande Prairie\, Alberta\, T8X 0V2\, Canada
ATTACH;FMTTYPE=image/png:https://www.gplt.ca/wp-content/uploads/2025/11/Christmas-Spectacular-2025-Banner-1200x600px.png
END:VEVENT
BEGIN:VEVENT
DTSTART;TZID=America/Edmonton:20251031T200000
DTEND;TZID=America/Edmonton:20251031T200000
DTSTAMP:20260422T141127
CREATED:20250929T224238Z
LAST-MODIFIED:20250930T193604Z
UID:10000015-1761940800-1761940800@www.gplt.ca
SUMMARY:PRIMAA Presents: Fight Night & the Frightening 48 Film Competition
DESCRIPTION:Want to see your horror film on the big screen this Halloween?\nThe Frightening 48 is open for registration! \nChallenge Dates:\nKicks off: October 3 at 7PM\nWraps up: October 5 at 7PM \nOnce the clock starts\, teams will get a set of spooky and horrifying prompts\, with just two days to write\, shoot\, edit\, and submit a terrifying short film. Expect chaos. Embrace caffeine. Unleash your creativity. \nEntry Fee:\n$20 per team \nFREE if any team member is a PRIMAA member! \nPremiere & Prizes:\nAll completed films will screen at Fright Night on October 31 at 10PM — with awards for Audience Choice and Judges’ Picks. So don’t forget to invite your cheer squad!\nFree Fuel provided by Pizza Hut — because horror and hunger don’t mix \nBONUS: Two door prizes after the Frightening48 screening! Stick around after the awards for our Midnight Movie to close out the Fright Night celebration with a BONUS third door prize for the night owls! \nRegister your team here: \nhttps://docs.google.com/…/1sHGISsG57R2y2NsJ…/viewform… \nDeadline to register: September 29 \nDare to compete for some excellent prizes?
URL:https://www.gplt.ca/event/fight-night-the-frightening-48-film-competition/
LOCATION:KMSC Law Performing Arts Theatre\, 300 Arbour Hills Blvd\, Grande Prairie\, Alberta\, T8X 0V2\, Canada
CATEGORIES:Special Events
ATTACH;FMTTYPE=image/png:https://www.gplt.ca/wp-content/uploads/2025/09/FRIGHTENING48-2025.png
END:VEVENT
END:VCALENDAR